{"text_format":"1","workbook":"xlsx","n_sheets":3,"sheets":["例","計算表","Sheet3"],"not_rendered":{"charts":0,"images":0,"macros":0,"external_links":0,"defined_names":0,"comments":0,"pivot_tables":0},"unopened":[],"bounds":{"document_bytes":16777216,"sheet_cells":100000,"rows_first":2000,"rows_last":500,"rows_between":2000,"halvings":0,"cell_chars":16384,"cell_head_chars":4096},"cells_cut":0,"cells_raw":0,"read":"whole","date_system":"1900"}

{"sheet":"例","index":0,"n_rows":16,"n_cols":17,"rows_kept":16,"cut":false,"hidden":false,"merged":[[3,5,3,11]]}
["隠岐の島町運動公園　料金計算表"]
["※黄色の枠に時間もしくは、1を入力して下さい。"]
[]
[null,null,null,null,null,"使用時間",null,null,null,null,null,null,"使用時間","単価","人数",null,"金額"]
["野球場","独占使用",null,"１時間単位","　8：30～22：00",8,"：",30,"～",12,"：",0,{"$f":"+Sheet3!I3","v":4},1029,null,null,{"$f":"+IF(M5=0,0,M5*N5)","v":4116}]
["陸上競技場","独占使用",null,"１時間単位","8：30～22：00",null,"：",null,"～",null,"：",null,{"$f":"+Sheet3!I4","v":0},1029,null,null,{"$f":"+IF(M6=0,0,M6*N6)","v":0}]
["スケートボードパーク","一般・学生",null,"１時間単位","8：30～22：00",13,"：",0,"～",14,"：",0,{"$f":"+Sheet3!I5","v":1},62,2,"人",{"$f":"+IF(M7=0,0,M7*N7*O7)","v":124}]
[null,"児童・生徒",null,"１時間単位","8：30～22：00",null,"：",null,"～",null,"：",null,{"$f":"+Sheet3!I6","v":0},31,null,"人",{"$f":"+IF(M8=0,0,M8*N8*O8)","v":0}]
["夜間照明装置","島内者野球",null,"１時間単位","8：30～22：00",null,"：",null,"～",null,"：",null,{"$f":"+Sheet3!I7","v":0},7200,null,null,{"$f":"+IF(M9=0,0,M9*N9)","v":0}]
[null,"島内者ソフト",null,"１時間単位","8：30～22：00",null,"：",null,"～",null,"：",null,{"$f":"+Sheet3!I8","v":0},4835,null,null,0]
[null,"島外者野球",null,"１時間単位","　8：30～22：00",null,"：",null,"～",null,"：",null,{"$f":"+Sheet3!I9","v":0},14400,null,null,0]
[null,"島外者ソフト",null,"１時間単位","8：30～22：00",null,"：",null,"～",null,"：",null,{"$f":"+Sheet3!I10","v":0},9669,null,null,0]
[null,"スケートボード",null,"１時間単位","8：30～22：00",null,"：",null,"～",null,"：",null,{"$f":"+Sheet3!I11","v":0},83,null,null,0]
[null,"営利目的使用",null,"１時間単位","8：30～22：00",null,"：",null,"～",null,"：",null,{"$f":"+Sheet3!I12","v":0},30857,null,null,{"$f":"+IF(M14=0,0,M14*N14)","v":0}]
[]
[null,null,null,null,null,null,null,null,null,null,null,null,"合計",null,null,null,{"$f":"SUM(Q5:Q15)","v":4240}]

{"sheet":"計算表","index":1,"n_rows":16,"n_cols":17,"rows_kept":16,"cut":false,"hidden":false,"merged":[[3,5,3,11],[0,14,0,16]]}
["隠岐の島町運動公園　料金計算表",null,null,null,null,null,null,null,null,null,null,null,null,null,"　　　　年　　　月　　　日"]
["※黄色の枠に時間もしくは、1を入力して下さい。"]
["※町内高等学校の場合は、1を入力して下さい。　→"]
[null,null,null,null,null,"使用時間",null,null,null,null,null,null,"使用時間","単価","人数",null,"金額"]
["野球場","独占使用",null,"１時間単位","　8：30～22：00",null,"：",null,"～",null,"：",null,{"$f":"+Sheet3!D3","v":0},1029,null,null,{"$f":"+IF($E$3=1,M5*N5/2,IF(M5=0,0,M5*N5))","v":0}]
["陸上競技場","独占使用",null,"１時間単位","8：30～22：00",null,"：",null,"～",null,"：",null,{"$f":"+Sheet3!D4","v":0},1029,null,null,{"$f":"+IF($E$3=1,M6*N6/2,IF(M6=0,0,M6*N6))","v":0}]
["スケートボードパーク","一般・学生",null,"１時間単位","8：30～22：00",null,"：",null,"～",null,"：",null,{"$f":"+Sheet3!D5","v":0},62,null,"人",0]
[null,"児童・生徒",null,"１時間単位","8：30～22：00",null,"：",null,"～",null,"：",null,{"$f":"+Sheet3!D6","v":0},31,null,"人",0]
["夜間照明装置","島内者野球",null,"１時間単位","8：30～22：00",null,"：",null,"～",null,"：",null,{"$f":"+Sheet3!D7","v":0},7200,null,null,0]
[null,"島内者ソフト",null,"１時間単位","8：30～22：00",null,"：",null,"～",null,"：",null,{"$f":"+Sheet3!D8","v":0},4835,null,null,0]
[null,"島外者野球",null,"１時間単位","　8：30～22：00",null,"：",null,"～",null,"：",null,{"$f":"+Sheet3!D9","v":0},14400,null,null,0]
[null,"島外者ソフト",null,"１時間単位","8：30～22：00",null,"：",null,"～",null,"：",null,{"$f":"+Sheet3!D10","v":0},9669,null,null,0]
[null,"スケートボード",null,"１時間単位","8：30～22：00",null,"：",null,"～",null,"：",null,{"$f":"+Sheet3!D11","v":0},83,null,null,0]
[null,"営利目的使用",null,"１時間単位","8：30～22：00",null,"：",null,"～",null,"：",null,{"$f":"+Sheet3!D12","v":0},30857,null,null,0]
[]
[null,null,null,null,null,null,null,null,null,null,null,null,null,null,"合計",null,{"$f":"SUM(Q5:Q15)","v":0}]

{"sheet":"Sheet3","index":2,"n_rows":25,"n_cols":9,"rows_kept":25,"cut":false,"hidden":true,"merged":[]}
[]
[]
[{"$f":"+計算表!A5","v":"野球場"},{"$f":"+計算表!J5-計算表!F5","v":0},{"$f":"+計算表!L5-計算表!H5","v":0},{"$f":"+IF(C3>0,B3+1,B3)","v":0},null,null,{"$f":"+例!J5-例!F5","v":4},{"$f":"+例!L5-例!H5","v":-30},{"$f":"+IF(H3>0,G3+1,G3)","v":4}]
[{"$f":"+計算表!A6","v":"陸上競技場"},{"$f":"+計算表!J6-計算表!F6","v":0},{"$f":"+計算表!L6-計算表!H6","v":0},{"$f":"+IF(C4>0,B4+1,B4)","v":0},null,null,{"$f":"+例!J6-例!F6","v":0},{"$f":"+例!L6-例!H6","v":0},{"$f":"+IF(H4>0,G4+1,G4)","v":0}]
[{"$f":"+計算表!A7","v":"スケートボードパーク"},{"$f":"+計算表!J7-計算表!F7","v":0},{"$f":"+計算表!L7-計算表!H7","v":0},0,null,null,{"$f":"+例!J7-例!F7","v":1},{"$f":"+例!L7-例!H7","v":0},{"$f":"+IF(H5>0,G5+1,G5)","v":1}]
[{"$f":"+計算表!A8","v":0},{"$f":"+計算表!J8-計算表!F8","v":0},{"$f":"+計算表!L8-計算表!H8","v":0},{"$f":"+IF(C6>0,B6+1,B6)","v":0},null,null,{"$f":"+例!J8-例!F8","v":0},{"$f":"+例!L8-例!H8","v":0},0]
[{"$f":"+計算表!A9","v":"夜間照明装置"},{"$f":"+計算表!J9-計算表!F9","v":0},{"$f":"+計算表!L9-計算表!H9","v":0},0,null,null,{"$f":"+例!J9-例!F9","v":0},{"$f":"+例!L9-例!H9","v":0},0]
[{"$f":"+計算表!A10","v":0},{"$f":"+計算表!J10-計算表!F10","v":0},{"$f":"+計算表!L10-計算表!H10","v":0},0,null,null,{"$f":"+例!J10-例!F10","v":0},{"$f":"+例!L10-例!H10","v":0},0]
[{"$f":"+計算表!A11","v":0},{"$f":"+計算表!J11-計算表!F11","v":0},{"$f":"+計算表!L11-計算表!H11","v":0},0,null,null,{"$f":"+例!J11-例!F11","v":0},{"$f":"+例!L11-例!H11","v":0},0]
[{"$f":"+計算表!A12","v":0},{"$f":"+計算表!J12-計算表!F12","v":0},{"$f":"+計算表!L12-計算表!H12","v":0},0,null,null,{"$f":"+例!J12-例!F12","v":0},{"$f":"+例!L12-例!H12","v":0},0]
[{"$f":"+計算表!A13","v":0},{"$f":"+計算表!J13-計算表!F13","v":0},{"$f":"+計算表!L13-計算表!H13","v":0},0,null,null,{"$f":"+例!J13-例!F13","v":0},{"$f":"+例!L13-例!H13","v":0},0]
[{"$f":"+計算表!A14","v":0},{"$f":"+計算表!J14-計算表!F14","v":0},{"$f":"+計算表!L14-計算表!H14","v":0},{"$f":"+IF(C12>0,B12+1,B12)","v":0},null,null,{"$f":"+例!J14-例!F14","v":0},{"$f":"+例!L14-例!H14","v":0},0]
[{"$f":"+計算表!A15","v":0},{"$f":"+計算表!J15-計算表!F15","v":0},{"$f":"+計算表!L15-計算表!H15","v":0},0,null,null,{"$f":"+例!J15-例!F15","v":0},{"$f":"+例!L15-例!H15","v":0},{"$f":"+IF(H13>0,G13+1,G13)","v":0}]
[{"$f":"+計算表!A16","v":0},{"$f":"+計算表!J16-計算表!F16","v":0},{"$f":"+計算表!L16-計算表!H16","v":0},0,null,null,{"$f":"+例!J16-例!F16","v":0},{"$f":"+例!L16-例!H16","v":0},0]
[{"$f":"+計算表!A17","v":0},{"$f":"+計算表!J17-計算表!F17","v":0},{"$f":"+計算表!L17-計算表!H17","v":0},0,null,null,{"$f":"+例!J17-例!F17","v":0},{"$f":"+例!L17-例!H17","v":0},0]
[{"$f":"+計算表!A18","v":0},{"$f":"+計算表!J18-計算表!F18","v":0},{"$f":"+計算表!L18-計算表!H18","v":0},0,null,null,{"$f":"+例!J18-例!F18","v":0},{"$f":"+例!L18-例!H18","v":0},0]
[{"$f":"+計算表!A19","v":0},{"$f":"+計算表!J19-計算表!F19","v":0},{"$f":"+計算表!L19-計算表!H19","v":0},0,null,null,{"$f":"+例!J19-例!F19","v":0},{"$f":"+例!L19-例!H19","v":0},0]
[{"$f":"+計算表!A20","v":0},{"$f":"+計算表!J20-計算表!F20","v":0},{"$f":"+計算表!L20-計算表!H20","v":0},0,null,null,{"$f":"+例!J20-例!F20","v":0},{"$f":"+例!L20-例!H20","v":0},0]
[{"$f":"+計算表!A21","v":0},{"$f":"+計算表!J21-計算表!F21","v":0},{"$f":"+計算表!L21-計算表!H21","v":0},{"$f":"+IF(C19>0,B19+1,B19)","v":0},null,null,{"$f":"+例!J21-例!F21","v":0},{"$f":"+例!L21-例!H21","v":0},0]
[{"$f":"+計算表!A22","v":0},{"$f":"+計算表!J22-計算表!F22","v":0},{"$f":"+計算表!L22-計算表!H22","v":0},0,null,null,{"$f":"+例!J22-例!F22","v":0},{"$f":"+例!L22-例!H22","v":0},{"$f":"+IF(H20>0,G20+1,G20)","v":0}]
[{"$f":"+計算表!A23","v":0},{"$f":"+計算表!J23-計算表!F23","v":0},{"$f":"+計算表!L23-計算表!H23","v":0},0,null,null,{"$f":"+例!J23-例!F23","v":0},{"$f":"+例!L23-例!H23","v":0},0]
[{"$f":"+計算表!A24","v":0},{"$f":"+計算表!J24-計算表!F24","v":0},{"$f":"+計算表!L24-計算表!H24","v":0},0,null,null,{"$f":"+例!J24-例!F24","v":0},{"$f":"+例!L24-例!H24","v":0},0]
[{"$f":"+計算表!A25","v":0},{"$f":"+計算表!J25-計算表!F25","v":0},{"$f":"+計算表!L25-計算表!H25","v":0},0,null,null,{"$f":"+例!J25-例!F25","v":0},{"$f":"+例!L25-例!H25","v":0},0]
[{"$f":"+計算表!A26","v":0},{"$f":"+計算表!J26-計算表!F26","v":0},{"$f":"+計算表!L26-計算表!H26","v":0},0,null,null,{"$f":"+例!J26-例!F26","v":0},{"$f":"+例!L26-例!H26","v":0},0]
[null,null,null,null,null,null,{"$f":"+例!J27-例!F27","v":0},{"$f":"+例!L27-例!H27","v":0},0]